Package: MethTargetedNGS Version: 1.39.0 Command: E:\biocbuild\bbs-3.21-bioc\R\bin\R.exe CMD INSTALL MethTargetedNGS StartedAt: 2025-02-02 15:37:47 -0500 (Sun, 02 Feb 2025) EndedAt: 2025-02-02 15:38:09 -0500 (Sun, 02 Feb 2025) EllapsedTime: 22.8 seconds RetCode: 0 Status: OK