Package: MetaboSignal Version: 1.37.0 Command: /Library/Frameworks/R.framework/Resources/bin/R CMD check --install=check:MetaboSignal.install-out.txt --library=/Library/Frameworks/R.framework/Resources/library --no-vignettes --timings MetaboSignal_1.37.0.tar.gz StartedAt: 2025-01-31 20:02:09 -0500 (Fri, 31 Jan 2025) EndedAt: 2025-01-31 20:04:33 -0500 (Fri, 31 Jan 2025) EllapsedTime: 143.8 seconds RetCode: 0 Status: OK CheckDir: MetaboSignal.Rcheck Warnings: 0