Package: MetaboSignal Version: 1.37.0 Command: /Library/Frameworks/R.framework/Resources/bin/R CMD build --keep-empty-dirs --no-resave-data MetaboSignal StartedAt: 2025-01-31 16:52:46 -0500 (Fri, 31 Jan 2025) EndedAt: 2025-01-31 16:53:44 -0500 (Fri, 31 Jan 2025) EllapsedTime: 57.7 seconds RetCode: 0 Status: OK PackageFile: MetaboSignal_1.37.0.tar.gz PackageFileSize: 2.089 MiB