Package: MesKit Version: 1.17.0 Command: /Library/Frameworks/R.framework/Resources/bin/R CMD INSTALL MesKit StartedAt: 2025-01-31 15:21:33 -0500 (Fri, 31 Jan 2025) EndedAt: 2025-01-31 15:22:02 -0500 (Fri, 31 Jan 2025) EllapsedTime: 29.2 seconds RetCode: 0 Status: OK