Package: MatrixQCvis Version: 1.15.0 Command: /home/biocbuild/R/R/bin/R CMD build --keep-empty-dirs --no-resave-data MatrixQCvis StartedAt: 2025-01-29 00:01:41 -0000 (Wed, 29 Jan 2025) EndedAt: 2025-01-29 00:05:20 -0000 (Wed, 29 Jan 2025) EllapsedTime: 219.1 seconds RetCode: 0 Status: OK PackageFile: MatrixQCvis_1.15.0.tar.gz PackageFileSize: 4.304 MiB