Package: MassArray Version: 1.59.0 Command: /home/biocbuild/R/R/bin/R CMD check --install=check:MassArray.install-out.txt --library=/home/biocbuild/R/R/site-library --no-vignettes --timings MassArray_1.59.0.tar.gz StartedAt: 2025-01-28 12:03:39 -0000 (Tue, 28 Jan 2025) EndedAt: 2025-01-28 12:04:25 -0000 (Tue, 28 Jan 2025) EllapsedTime: 46.1 seconds RetCode: 0 Status: OK CheckDir: MassArray.Rcheck Warnings: 0