Package: MantelCorr Version: 1.77.0 Command: /home/biocbuild/bbs-3.21-bioc/R/bin/R CMD build --keep-empty-dirs --no-resave-data MantelCorr StartedAt: 2025-01-31 17:56:49 -0500 (Fri, 31 Jan 2025) EndedAt: 2025-01-31 17:56:59 -0500 (Fri, 31 Jan 2025) EllapsedTime: 10.0 seconds RetCode: 0 Status: OK PackageFile: MantelCorr_1.77.0.tar.gz PackageFileSize: 937.7 KiB