Package: MSstatsShiny Version: 1.9.0 Command: /home/biocbuild/bbs-3.21-bioc/R/bin/R CMD INSTALL MSstatsShiny StartedAt: 2025-01-31 15:52:17 -0500 (Fri, 31 Jan 2025) EndedAt: 2025-01-31 15:52:43 -0500 (Fri, 31 Jan 2025) EllapsedTime: 25.9 seconds RetCode: 0 Status: OK