Package: MSstatsPTM Version: 2.9.1 Command: rm -rf MSstatsPTM.buildbin-libdir && mkdir MSstatsPTM.buildbin-libdir && /Users/biocbuild/BBS/utils/build-universal.sh MSstatsPTM_2.9.1.tar.gz /Library/Frameworks/R.framework/Resources/bin/R MSstatsPTM.buildbin-libdir StartedAt: 2025-02-01 00:28:19 -0500 (Sat, 01 Feb 2025) EndedAt: 2025-02-01 00:28:59 -0500 (Sat, 01 Feb 2025) EllapsedTime: 40.4 seconds RetCode: 0 Status: OK PackageFile: MSstatsPTM_2.9.1.tgz PackageFileSize: 3.221 MiB