Package: MSstats Version: 4.15.1 Command: /home/biocbuild/R/R/bin/R CMD INSTALL MSstats StartedAt: 2025-01-29 20:17:24 -0000 (Wed, 29 Jan 2025) EndedAt: 2025-01-29 20:18:34 -0000 (Wed, 29 Jan 2025) EllapsedTime: 70.3 seconds RetCode: 0 Status: OK