Package: MPFE Version: 1.43.0 Command: /Library/Frameworks/R.framework/Resources/bin/R CMD INSTALL MPFE StartedAt: 2025-01-31 15:07:40 -0500 (Fri, 31 Jan 2025) EndedAt: 2025-01-31 15:08:08 -0500 (Fri, 31 Jan 2025) EllapsedTime: 27.9 seconds RetCode: 0 Status: OK