Package: MIRit Version: 1.3.0 Command: /home/biocbuild/bbs-3.21-bioc/R/bin/R CMD build --keep-empty-dirs --no-resave-data MIRit StartedAt: 2025-01-31 18:10:46 -0500 (Fri, 31 Jan 2025) EndedAt: 2025-01-31 18:12:01 -0500 (Fri, 31 Jan 2025) EllapsedTime: 75.1 seconds RetCode: 0 Status: OK PackageFile: MIRit_1.3.0.tar.gz PackageFileSize: 2.607 MiB