Package: MICSQTL Version: 1.5.0 Command: /home/biocbuild/bbs-3.21-bioc/R/bin/R CMD check --install=check:MICSQTL.install-out.txt --library=/home/biocbuild/bbs-3.21-bioc/R/site-library --timings MICSQTL_1.5.0.tar.gz StartedAt: 2025-02-01 00:04:53 -0500 (Sat, 01 Feb 2025) EndedAt: 2025-02-01 00:14:24 -0500 (Sat, 01 Feb 2025) EllapsedTime: 570.7 seconds RetCode: 0 Status: OK CheckDir: MICSQTL.Rcheck Warnings: 0