Package: MICSQTL Version: 1.5.0 Command: /home/biocbuild/R/R/bin/R CMD build --keep-empty-dirs --no-resave-data MICSQTL StartedAt: 2025-01-29 00:20:36 -0000 (Wed, 29 Jan 2025) EndedAt: 2025-01-29 00:21:31 -0000 (Wed, 29 Jan 2025) EllapsedTime: 55.0 seconds RetCode: 0 Status: OK PackageFile: MICSQTL_1.5.0.tar.gz PackageFileSize: 3.109 MiB