Package: MEIGOR Version: 1.41.0 Command: E:\biocbuild\bbs-3.21-bioc\R\bin\R.exe CMD INSTALL MEIGOR StartedAt: 2025-01-31 15:49:07 -0500 (Fri, 31 Jan 2025) EndedAt: 2025-01-31 15:49:44 -0500 (Fri, 31 Jan 2025) EllapsedTime: 37.3 seconds RetCode: 0 Status: OK