Package: MEDME Version: 1.67.0 Command: /home/biocbuild/bbs-3.21-bioc/R/bin/R CMD build --keep-empty-dirs --no-resave-data MEDME StartedAt: 2025-01-31 18:00:51 -0500 (Fri, 31 Jan 2025) EndedAt: 2025-01-31 18:01:26 -0500 (Fri, 31 Jan 2025) EllapsedTime: 35.0 seconds RetCode: 0 Status: OK PackageFile: MEDME_1.67.0.tar.gz PackageFileSize: 448.3 KiB