Package: MEB Version: 1.21.0 Command: /Library/Frameworks/R.framework/Resources/bin/R CMD build --keep-empty-dirs --no-resave-data MEB StartedAt: 2025-01-31 16:51:44 -0500 (Fri, 31 Jan 2025) EndedAt: 2025-01-31 16:52:04 -0500 (Fri, 31 Jan 2025) EllapsedTime: 19.2 seconds RetCode: 0 Status: OK PackageFile: MEB_1.21.0.tar.gz PackageFileSize: 1.179 MiB