Package: MDTS Version: 1.27.0 Command: E:\biocbuild\bbs-3.21-bioc\R\bin\R.exe CMD check --no-multiarch --install=check:MDTS.install-out.txt --library=E:\biocbuild\bbs-3.21-bioc\R\library --no-vignettes --timings MDTS_1.27.0.tar.gz StartedAt: 2025-02-01 02:18:45 -0500 (Sat, 01 Feb 2025) EndedAt: 2025-02-01 02:22:20 -0500 (Sat, 01 Feb 2025) EllapsedTime: 214.9 seconds RetCode: 0 Status: OK CheckDir: MDTS.Rcheck Warnings: 0