Package: MCbiclust Version: 1.31.0 Command: /home/biocbuild/bbs-3.21-bioc/R/bin/R CMD INSTALL MCbiclust StartedAt: 2025-01-31 15:44:45 -0500 (Fri, 31 Jan 2025) EndedAt: 2025-01-31 15:45:05 -0500 (Fri, 31 Jan 2025) EllapsedTime: 20.2 seconds RetCode: 0 Status: OK