Package: MAI Version: 1.13.0 Command: /Library/Frameworks/R.framework/Resources/bin/R CMD INSTALL MAI StartedAt: 2025-01-31 15:39:42 -0500 (Fri, 31 Jan 2025) EndedAt: 2025-01-31 15:40:17 -0500 (Fri, 31 Jan 2025) EllapsedTime: 34.5 seconds RetCode: 0 Status: OK