Package: MAI Version: 1.13.0 Command: /home/biocbuild/R/R/bin/R CMD build --keep-empty-dirs --no-resave-data MAI StartedAt: 2025-01-28 23:58:44 -0000 (Tue, 28 Jan 2025) EndedAt: 2025-01-29 00:06:23 -0000 (Wed, 29 Jan 2025) EllapsedTime: 459.2 seconds RetCode: 0 Status: OK PackageFile: MAI_1.13.0.tar.gz PackageFileSize: 519.9 KiB