Package: MAGeCKFlute Version: 2.11.1 Command: /Library/Frameworks/R.framework/Resources/bin/R CMD INSTALL MAGeCKFlute StartedAt: 2025-01-31 15:39:10 -0500 (Fri, 31 Jan 2025) EndedAt: 2025-01-31 15:39:50 -0500 (Fri, 31 Jan 2025) EllapsedTime: 40.2 seconds RetCode: 0 Status: OK