Package: MAGeCKFlute Version: 2.11.1 Command: /home/biocbuild/R/R/bin/R CMD INSTALL MAGeCKFlute StartedAt: 2025-01-29 20:23:50 -0000 (Wed, 29 Jan 2025) EndedAt: 2025-01-29 20:24:33 -0000 (Wed, 29 Jan 2025) EllapsedTime: 42.5 seconds RetCode: 0 Status: OK