Package: MAGAR Version: 1.15.1 Command: E:\biocbuild\bbs-3.21-bioc\R\bin\R.exe CMD check --no-multiarch --install=check:MAGAR.install-out.txt --library=E:\biocbuild\bbs-3.21-bioc\R\library --no-vignettes --timings MAGAR_1.15.1.tar.gz StartedAt: 2025-01-22 02:34:28 -0500 (Wed, 22 Jan 2025) EndedAt: 2025-01-22 02:43:03 -0500 (Wed, 22 Jan 2025) EllapsedTime: 515.3 seconds RetCode: 0 Status: OK CheckDir: MAGAR.Rcheck Warnings: 0