Package: MAGAR Version: 1.15.1 Command: chmod a+r MAGAR -R && E:\biocbuild\bbs-3.21-bioc\R\bin\R.exe CMD build --keep-empty-dirs --no-resave-data MAGAR StartedAt: 2025-01-31 19:28:15 -0500 (Fri, 31 Jan 2025) EndedAt: 2025-01-31 19:28:21 -0500 (Fri, 31 Jan 2025) EllapsedTime: 6.0 seconds RetCode: 1 Status: ERROR PackageFile: None PackageFileSize: NA