############################################################################## ############################################################################## ### ### Running command: ### ### chmod a+r MAGAR -R && E:\biocbuild\bbs-3.21-bioc\R\bin\R.exe CMD build --keep-empty-dirs --no-resave-data MAGAR ### ############################################################################## ############################################################################## * checking for file 'MAGAR/DESCRIPTION' ... OK * preparing 'MAGAR': * checking DESCRIPTION meta-information ... OK * installing the package to build vignettes ----------------------------------- ERROR: dependency 'crlmm' is not available for package 'MAGAR' Perhaps try a variation of: install.packages('crlmm') * removing 'E:/biocbuild/bbs-3.21-bioc/tmpdir/RtmpYbVKTf/Rinstce3c76f4e09/MAGAR' ----------------------------------- ERROR: package installation failed