Package: MAGAR Version: 1.15.1 Command: /home/biocbuild/bbs-3.21-bioc/R/bin/R CMD INSTALL MAGAR StartedAt: 2025-01-31 16:01:21 -0500 (Fri, 31 Jan 2025) EndedAt: 2025-01-31 16:01:22 -0500 (Fri, 31 Jan 2025) EllapsedTime: 1.1 seconds RetCode: 1 Status: ERROR