Package: MACSQuantifyR Version: 1.21.0 Command: chmod a+r MACSQuantifyR -R && E:\biocbuild\bbs-3.21-bioc\R\bin\R.exe CMD build --keep-empty-dirs --no-resave-data MACSQuantifyR StartedAt: 2025-02-02 19:34:06 -0500 (Sun, 02 Feb 2025) EndedAt: 2025-02-02 19:34:38 -0500 (Sun, 02 Feb 2025) EllapsedTime: 32.1 seconds RetCode: 0 Status: OK PackageFile: MACSQuantifyR_1.21.0.tar.gz PackageFileSize: 3.334 MiB