Package: LiquidAssociation Version: 1.61.0 Command: rm -rf LiquidAssociation.buildbin-libdir && mkdir LiquidAssociation.buildbin-libdir && /Users/biocbuild/BBS/utils/build-universal.sh LiquidAssociation_1.61.0.tar.gz /Library/Frameworks/R.framework/Resources/bin/R LiquidAssociation.buildbin-libdir StartedAt: 2025-01-31 22:21:09 -0500 (Fri, 31 Jan 2025) EndedAt: 2025-01-31 22:21:16 -0500 (Fri, 31 Jan 2025) EllapsedTime: 7.1 seconds RetCode: 0 Status: OK PackageFile: LiquidAssociation_1.61.0.tgz PackageFileSize: 507.5 KiB