Package: Linnorm Version: 2.31.0 Command: /Library/Frameworks/R.framework/Resources/bin/R CMD INSTALL Linnorm StartedAt: 2025-02-02 15:08:12 -0500 (Sun, 02 Feb 2025) EndedAt: 2025-02-02 15:08:32 -0500 (Sun, 02 Feb 2025) EllapsedTime: 19.5 seconds RetCode: 0 Status: OK