Package: Linnorm Version: 2.31.0 Command: /Library/Frameworks/R.framework/Resources/bin/R CMD check --install=check:Linnorm.install-out.txt --library=/Library/Frameworks/R.framework/Resources/library --no-vignettes --timings Linnorm_2.31.0.tar.gz StartedAt: 2025-02-02 21:14:28 -0500 (Sun, 02 Feb 2025) EndedAt: 2025-02-02 21:20:08 -0500 (Sun, 02 Feb 2025) EllapsedTime: 339.5 seconds RetCode: 0 Status: OK CheckDir: Linnorm.Rcheck Warnings: 0