Package: LimROTS Version: 0.99.12 Command: /Library/Frameworks/R.framework/Resources/bin/R CMD build --keep-empty-dirs --no-resave-data LimROTS StartedAt: 2025-01-31 17:10:31 -0500 (Fri, 31 Jan 2025) EndedAt: 2025-01-31 17:11:45 -0500 (Fri, 31 Jan 2025) EllapsedTime: 73.1 seconds RetCode: 0 Status: OK PackageFile: LimROTS_0.99.12.tar.gz PackageFileSize: 772.6 KiB