Package: LPE Version: 1.81.0 Command: /home/biocbuild/bbs-3.21-bioc/R/bin/R CMD INSTALL LPE StartedAt: 2025-01-31 15:09:10 -0500 (Fri, 31 Jan 2025) EndedAt: 2025-01-31 15:09:24 -0500 (Fri, 31 Jan 2025) EllapsedTime: 14.4 seconds RetCode: 0 Status: OK