Package: LOLA Version: 1.37.0 Command: /home/biocbuild/bbs-3.21-bioc/R/bin/R CMD INSTALL LOLA StartedAt: 2025-01-31 15:16:02 -0500 (Fri, 31 Jan 2025) EndedAt: 2025-01-31 15:16:12 -0500 (Fri, 31 Jan 2025) EllapsedTime: 10.3 seconds RetCode: 0 Status: OK