Package: LBE Version: 1.75.0 Command: E:\biocbuild\bbs-3.21-bioc\R\bin\R.exe CMD INSTALL LBE StartedAt: 2025-01-31 15:18:37 -0500 (Fri, 31 Jan 2025) EndedAt: 2025-01-31 15:18:46 -0500 (Fri, 31 Jan 2025) EllapsedTime: 9.0 seconds RetCode: 0 Status: OK