Package: KEGGgraph Version: 1.67.0 Command: /home/biocbuild/R/R/bin/R CMD build --keep-empty-dirs --no-resave-data KEGGgraph StartedAt: 2025-01-28 23:52:25 -0000 (Tue, 28 Jan 2025) EndedAt: 2025-01-28 23:53:02 -0000 (Tue, 28 Jan 2025) EllapsedTime: 37.0 seconds RetCode: 0 Status: OK PackageFile: KEGGgraph_1.67.0.tar.gz PackageFileSize: 1.314 MiB