Package: KBoost Version: 1.15.0 Command: /home/biocbuild/R/R/bin/R CMD check --install=check:KBoost.install-out.txt --library=/home/biocbuild/R/R/site-library --no-vignettes --timings KBoost_1.15.0.tar.gz StartedAt: 2025-01-28 11:50:43 -0000 (Tue, 28 Jan 2025) EndedAt: 2025-01-28 11:51:27 -0000 (Tue, 28 Jan 2025) EllapsedTime: 44.1 seconds RetCode: 0 Status: OK CheckDir: KBoost.Rcheck Warnings: 0