Package: IsoCorrectoRGUI Version: 1.23.0 Command: /Library/Frameworks/R.framework/Resources/bin/R CMD INSTALL IsoCorrectoRGUI StartedAt: 2025-01-31 15:12:31 -0500 (Fri, 31 Jan 2025) EndedAt: 2025-01-31 15:12:47 -0500 (Fri, 31 Jan 2025) EllapsedTime: 16.2 seconds RetCode: 0 Status: OK