Package: IsoBayes Version: 1.5.0 Command: rm -rf IsoBayes.buildbin-libdir && mkdir IsoBayes.buildbin-libdir && /Users/biocbuild/BBS/utils/build-universal.sh IsoBayes_1.5.0.tar.gz /Library/Frameworks/R.framework/Resources/bin/R IsoBayes.buildbin-libdir StartedAt: 2025-01-31 22:20:36 -0500 (Fri, 31 Jan 2025) EndedAt: 2025-01-31 22:20:54 -0500 (Fri, 31 Jan 2025) EllapsedTime: 17.4 seconds RetCode: 0 Status: OK PackageFile: IsoBayes_1.5.0.tgz PackageFileSize: 1.761 MiB