Package: IntEREst Version: 1.31.0 Command: /home/biocbuild/R/R/bin/R CMD INSTALL IntEREst StartedAt: 2025-01-29 20:25:07 -0000 (Wed, 29 Jan 2025) EndedAt: 2025-01-29 20:26:22 -0000 (Wed, 29 Jan 2025) EllapsedTime: 74.7 seconds RetCode: 0 Status: OK