Package: IntEREst Version: 1.31.0 Command: /home/biocbuild/R/R/bin/R CMD build --keep-empty-dirs --no-resave-data IntEREst StartedAt: 2025-01-28 23:47:04 -0000 (Tue, 28 Jan 2025) EndedAt: 2025-01-28 23:49:11 -0000 (Tue, 28 Jan 2025) EllapsedTime: 127.0 seconds RetCode: 0 Status: OK PackageFile: IntEREst_1.31.0.tar.gz PackageFileSize: 1.338 MiB