Package: Informeasure Version: 1.17.0 Command: rm -rf Informeasure.buildbin-libdir && mkdir Informeasure.buildbin-libdir && E:\biocbuild\bbs-3.21-bioc\R\bin\R.exe CMD INSTALL --build --library=Informeasure.buildbin-libdir Informeasure_1.17.0.tar.gz StartedAt: 2025-02-01 07:27:10 -0500 (Sat, 01 Feb 2025) EndedAt: 2025-02-01 07:27:39 -0500 (Sat, 01 Feb 2025) EllapsedTime: 29.8 seconds RetCode: 0 Status: OK PackageFile: Informeasure_1.17.0.zip PackageFileSize: 333.7 KiB