Package: INDEED Version: 2.21.0 Command: E:\biocbuild\bbs-3.21-bioc\R\bin\R.exe CMD check --no-multiarch --install=check:INDEED.install-out.txt --library=E:\biocbuild\bbs-3.21-bioc\R\library --no-vignettes --timings INDEED_2.21.0.tar.gz StartedAt: 2025-02-01 01:47:17 -0500 (Sat, 01 Feb 2025) EndedAt: 2025-02-01 01:48:26 -0500 (Sat, 01 Feb 2025) EllapsedTime: 69.8 seconds RetCode: 0 Status: OK CheckDir: INDEED.Rcheck Warnings: 0