Package: INDEED Version: 2.21.0 Command: rm -rf INDEED.buildbin-libdir && mkdir INDEED.buildbin-libdir && E:\biocbuild\bbs-3.21-bioc\R\bin\R.exe CMD INSTALL --build --library=INDEED.buildbin-libdir INDEED_2.21.0.tar.gz StartedAt: 2025-02-01 07:27:04 -0500 (Sat, 01 Feb 2025) EndedAt: 2025-02-01 07:27:26 -0500 (Sat, 01 Feb 2025) EllapsedTime: 22.9 seconds RetCode: 0 Status: OK PackageFile: INDEED_2.21.0.zip PackageFileSize: 783.1 KiB