Package: INDEED Version: 2.21.0 Command: /home/biocbuild/R/R/bin/R CMD build --keep-empty-dirs --no-resave-data INDEED StartedAt: 2025-01-28 23:44:29 -0000 (Tue, 28 Jan 2025) EndedAt: 2025-01-28 23:44:41 -0000 (Tue, 28 Jan 2025) EllapsedTime: 12.0 seconds RetCode: 0 Status: OK PackageFile: INDEED_2.21.0.tar.gz PackageFileSize: 1.882 MiB