Package: IMMAN Version: 1.27.0 Command: E:\biocbuild\bbs-3.21-bioc\R\bin\R.exe CMD INSTALL IMMAN StartedAt: 2025-01-31 15:38:32 -0500 (Fri, 31 Jan 2025) EndedAt: 2025-01-31 15:38:54 -0500 (Fri, 31 Jan 2025) EllapsedTime: 22.4 seconds RetCode: 0 Status: OK