Package: IMMAN Version: 1.27.0 Command: /Library/Frameworks/R.framework/Resources/bin/R CMD build --keep-empty-dirs --no-resave-data IMMAN StartedAt: 2025-01-31 17:04:36 -0500 (Fri, 31 Jan 2025) EndedAt: 2025-01-31 17:07:45 -0500 (Fri, 31 Jan 2025) EllapsedTime: 189.3 seconds RetCode: 0 Status: OK PackageFile: IMMAN_1.27.0.tar.gz PackageFileSize: 45.03 KiB