Package: IMAS Version: 1.31.0 Command: /home/biocbuild/bbs-3.21-bioc/R/bin/R CMD INSTALL IMAS StartedAt: 2025-01-31 15:50:29 -0500 (Fri, 31 Jan 2025) EndedAt: 2025-01-31 15:51:08 -0500 (Fri, 31 Jan 2025) EllapsedTime: 39.4 seconds RetCode: 0 Status: OK