Package: ILoReg Version: 1.17.0 Command: /Library/Frameworks/R.framework/Resources/bin/R CMD check --install=check:ILoReg.install-out.txt --library=/Library/Frameworks/R.framework/Resources/library --no-vignettes --timings ILoReg_1.17.0.tar.gz StartedAt: 2025-02-02 21:02:37 -0500 (Sun, 02 Feb 2025) EndedAt: 2025-02-02 21:08:02 -0500 (Sun, 02 Feb 2025) EllapsedTime: 325.1 seconds RetCode: 0 Status: WARNINGS CheckDir: ILoReg.Rcheck Warnings: 2