Package: ILoReg Version: 1.17.0 Command: /home/biocbuild/R/R/bin/R CMD build --keep-empty-dirs --no-resave-data ILoReg StartedAt: 2025-01-28 23:42:53 -0000 (Tue, 28 Jan 2025) EndedAt: 2025-01-28 23:46:02 -0000 (Tue, 28 Jan 2025) EllapsedTime: 188.2 seconds RetCode: 1 Status: ERROR PackageFile: None PackageFileSize: NA